BEGIN:VCALENDAR
VERSION:2.0
PRODID:-//North Central State College - ECPv6.5.1.5//NONSGML v1.0//EN
CALSCALE:GREGORIAN
METHOD:PUBLISH
X-WR-CALNAME:North Central State College
X-ORIGINAL-URL:https://ncstatecollege.edu
X-WR-CALDESC:Events for North Central State College
REFRESH-INTERVAL;VALUE=DURATION:PT1H
X-Robots-Tag:noindex
X-PUBLISHED-TTL:PT1H
BEGIN:VTIMEZONE
TZID:America/New_York
BEGIN:DAYLIGHT
TZOFFSETFROM:-0500
TZOFFSETTO:-0400
TZNAME:EDT
DTSTART:20260308T070000
END:DAYLIGHT
BEGIN:STANDARD
TZOFFSETFROM:-0400
TZOFFSETTO:-0500
TZNAME:EST
DTSTART:20261101T060000
END:STANDARD
END:VTIMEZONE
BEGIN:VEVENT
DTSTART;TZID=America/New_York:20260504T120000
DTEND;TZID=America/New_York:20260504T130000
DTSTAMP:20260423T014523
CREATED:20260401T173006Z
LAST-MODIFIED:20260401T173006Z
UID:10002155-1777896000-1777899600@ncstatecollege.edu
SUMMARY:Respiratory Care Information Session
DESCRIPTION:Sign-up is required. Please click the following link: https://ncstatecollege.edu/associate-degrees/health-info-sesssions/ \nDates are subject to change without notice.
URL:https://ncstatecollege.edu/event/respiratory-care-information-session-68/
END:VEVENT
BEGIN:VEVENT
DTSTART;TZID=America/New_York:20260505T090000
DTEND;TZID=America/New_York:20260505T100000
DTSTAMP:20260423T014523
CREATED:20260401T173106Z
LAST-MODIFIED:20260401T173106Z
UID:10002156-1777971600-1777975200@ncstatecollege.edu
SUMMARY:Nursing Information Session (RN & PN)
DESCRIPTION:Sign-up is required. Please click the following link: https://ncstatecollege.edu/associate-degrees/health-info-sesssions/ \nDates are subject to change without notice.
URL:https://ncstatecollege.edu/event/nursing-information-session-rn-pn-43/
END:VEVENT
BEGIN:VEVENT
DTSTART;TZID=America/New_York:20260505T100000
DTEND;TZID=America/New_York:20260505T110000
DTSTAMP:20260423T014523
CREATED:20260107T202658Z
LAST-MODIFIED:20260107T202658Z
UID:10002139-1777975200-1777978800@ncstatecollege.edu
SUMMARY:Physical Therapist Assistant Info Session
DESCRIPTION:Sign-up is required. Please click the following link: https://ncstatecollege.edu/associate-degrees/health-info-sesssions/ \nDates are subject to change without notice.
URL:https://ncstatecollege.edu/event/physical-therapist-assistant-info-session-14/
END:VEVENT
BEGIN:VEVENT
DTSTART;TZID=America/New_York:20260505T120000
DTEND;TZID=America/New_York:20260505T123000
DTSTAMP:20260423T014523
CREATED:20251216T140256Z
LAST-MODIFIED:20260106T130541Z
UID:10002092-1777982400-1777984200@ncstatecollege.edu
SUMMARY:Mental Health & Wellness Workshop
DESCRIPTION:•Tuesday\, May 5 – In-Person\n•Thursday\, May 7 – Online \nPlease sign up in advance to reserve your spot. \nSign up below for FREE Workshops
URL:https://ncstatecollege.edu/event/mental-health-wellness-workshop/2026-05-05/
END:VEVENT
BEGIN:VEVENT
DTSTART;TZID=America/New_York:20260507T120000
DTEND;TZID=America/New_York:20260507T123000
DTSTAMP:20260423T014523
CREATED:20251216T140256Z
LAST-MODIFIED:20260106T130541Z
UID:10002093-1778155200-1778157000@ncstatecollege.edu
SUMMARY:Mental Health & Wellness Workshop
DESCRIPTION:•Tuesday\, May 5 – In-Person\n•Thursday\, May 7 – Online \nPlease sign up in advance to reserve your spot. \nSign up below for FREE Workshops
URL:https://ncstatecollege.edu/event/mental-health-wellness-workshop/2026-05-07/
END:VEVENT
END:VCALENDAR