BEGIN:VCALENDAR
VERSION:2.0
PRODID:-//North Central State College - ECPv6.5.1.5//NONSGML v1.0//EN
CALSCALE:GREGORIAN
METHOD:PUBLISH
X-WR-CALNAME:North Central State College
X-ORIGINAL-URL:https://ncstatecollege.edu
X-WR-CALDESC:Events for North Central State College
REFRESH-INTERVAL;VALUE=DURATION:PT1H
X-Robots-Tag:noindex
X-PUBLISHED-TTL:PT1H
BEGIN:VTIMEZONE
TZID:America/New_York
BEGIN:DAYLIGHT
TZOFFSETFROM:-0500
TZOFFSETTO:-0400
TZNAME:EDT
DTSTART:20260308T070000
END:DAYLIGHT
BEGIN:STANDARD
TZOFFSETFROM:-0400
TZOFFSETTO:-0500
TZNAME:EST
DTSTART:20261101T060000
END:STANDARD
END:VTIMEZONE
BEGIN:VEVENT
DTSTART;TZID=America/New_York:20260224T090000
DTEND;TZID=America/New_York:20260224T120000
DTSTAMP:20260423T060019
CREATED:20260105T170813Z
LAST-MODIFIED:20260223T204850Z
UID:10002116-1771923600-1771934400@ncstatecollege.edu
SUMMARY:ACCUPLACER Placement Testing
DESCRIPTION:The Academic Testing Center will offer the ACCUPLACER in the Health Science Center\, Room 245B (second floor computer lab). \nFor information about testing at your high school\, please call (419) 755 – 4566. Or\, to schedule an on-campus ACCUPLACER\, please call (419) 755 – 4536.
URL:https://ncstatecollege.edu/event/accuplacer-placement-testing-16/2026-02-24/
CATEGORIES:ACCUPLACER Placement Exam
END:VEVENT
BEGIN:VEVENT
DTSTART;TZID=America/New_York:20260224T130000
DTEND;TZID=America/New_York:20260224T160000
DTSTAMP:20260423T060019
CREATED:20260115T151209Z
LAST-MODIFIED:20260115T151718Z
UID:10002145-1771938000-1771948800@ncstatecollege.edu
SUMMARY:NCSC/OSU Mansfield Job & Internship Fair
DESCRIPTION:Students and Alumni Welcome! Come join 50 local employers\, and get a FREE headshot for\nLinkedIn. The first 25 students to preregister for the job fair will receive a free giveaway! \nCareerFairFlyerStudents Copy
URL:https://ncstatecollege.edu/event/ncsc-osu-mansfield-job-internship-fair/
LOCATION:Campus Recreation Center
CATEGORIES:Career Services
END:VEVENT
BEGIN:VEVENT
DTSTART;TZID=America/New_York:20260225T090000
DTEND;TZID=America/New_York:20260225T130000
DTSTAMP:20260423T060019
CREATED:20260223T205407Z
LAST-MODIFIED:20260223T205407Z
UID:10002151-1772010000-1772024400@ncstatecollege.edu
SUMMARY:P.S. I Love You Day
DESCRIPTION:Join us at our table for P.S. I Love You Day to raise awareness for suicide prevention and mental health\, spreading love\, hope\, and support to anyone who may be struggling. \nWear purple\, grab a cookie\, be the light!
URL:https://ncstatecollege.edu/event/p-s-i-love-you-day/
LOCATION:Health Sciences Center\, Lower Level
CATEGORIES:Campus Activities,Mental Health & Wellness
END:VEVENT
END:VCALENDAR