BEGIN:VCALENDAR
VERSION:2.0
PRODID:-//North Central State College - ECPv6.5.1.5//NONSGML v1.0//EN
CALSCALE:GREGORIAN
METHOD:PUBLISH
X-ORIGINAL-URL:https://ncstatecollege.edu
X-WR-CALDESC:Events for North Central State College
REFRESH-INTERVAL;VALUE=DURATION:PT1H
X-Robots-Tag:noindex
X-PUBLISHED-TTL:PT1H
BEGIN:VTIMEZONE
TZID:America/New_York
BEGIN:DAYLIGHT
TZOFFSETFROM:-0500
TZOFFSETTO:-0400
TZNAME:EDT
DTSTART:20260308T070000
END:DAYLIGHT
BEGIN:STANDARD
TZOFFSETFROM:-0400
TZOFFSETTO:-0500
TZNAME:EST
DTSTART:20261101T060000
END:STANDARD
END:VTIMEZONE
BEGIN:VEVENT
DTSTART;TZID=America/New_York:20260210T120000
DTEND;TZID=America/New_York:20260210T123000
DTSTAMP:20260423T014631
CREATED:20251216T135658Z
LAST-MODIFIED:20260106T130644Z
UID:10002086-1770724800-1770726600@ncstatecollege.edu
SUMMARY:Research & Writing Workshop
DESCRIPTION:•Tuesday\, February 10 – In-Person\n•Thursday\, February 12 – Online \nPlease sign up in advance to reserve your spot. \nSign up below for FREE Workshops
URL:https://ncstatecollege.edu/event/research-writing-workshop/2026-02-10/
END:VEVENT
BEGIN:VEVENT
DTSTART;TZID=America/New_York:20260210T163000
DTEND;TZID=America/New_York:20260210T173000
DTSTAMP:20260423T014631
CREATED:20260107T202514Z
LAST-MODIFIED:20260114T132548Z
UID:10002135-1770741000-1770744600@ncstatecollege.edu
SUMMARY:Radiological Sciences Information Session
DESCRIPTION:Sign-up is required. Please click the following link: https://ncstatecollege.edu/associate-degrees/health-info-sesssions/ \nDates are subject to change without notice.
URL:https://ncstatecollege.edu/event/radiological-sciences-information-session-44/
END:VEVENT
BEGIN:VEVENT
DTSTART;TZID=America/New_York:20260212T120000
DTEND;TZID=America/New_York:20260212T123000
DTSTAMP:20260423T014631
CREATED:20251216T135658Z
LAST-MODIFIED:20260106T130644Z
UID:10002087-1770897600-1770899400@ncstatecollege.edu
SUMMARY:Research & Writing Workshop
DESCRIPTION:•Tuesday\, February 10 – In-Person\n•Thursday\, February 12 – Online \nPlease sign up in advance to reserve your spot. \nSign up below for FREE Workshops
URL:https://ncstatecollege.edu/event/research-writing-workshop/2026-02-12/
END:VEVENT
BEGIN:VEVENT
DTSTART;TZID=America/New_York:20260213T100000
DTEND;TZID=America/New_York:20260213T110000
DTSTAMP:20260423T014631
CREATED:20260107T202549Z
LAST-MODIFIED:20260107T202549Z
UID:10002136-1770976800-1770980400@ncstatecollege.edu
SUMMARY:Physical Therapist Assistant Info Session
DESCRIPTION:Sign-up is required. Please click the following link: https://ncstatecollege.edu/associate-degrees/health-info-sesssions/ \nDates are subject to change without notice.
URL:https://ncstatecollege.edu/event/physical-therapist-assistant-info-session-11/
END:VEVENT
END:VCALENDAR