BEGIN:VCALENDAR
VERSION:2.0
PRODID:-//North Central State College - ECPv6.5.1.5//NONSGML v1.0//EN
CALSCALE:GREGORIAN
METHOD:PUBLISH
X-ORIGINAL-URL:https://ncstatecollege.edu
X-WR-CALDESC:Events for North Central State College
REFRESH-INTERVAL;VALUE=DURATION:PT1H
X-Robots-Tag:noindex
X-PUBLISHED-TTL:PT1H
BEGIN:VTIMEZONE
TZID:America/New_York
BEGIN:DAYLIGHT
TZOFFSETFROM:-0500
TZOFFSETTO:-0400
TZNAME:EDT
DTSTART:20250309T070000
END:DAYLIGHT
BEGIN:STANDARD
TZOFFSETFROM:-0400
TZOFFSETTO:-0500
TZNAME:EST
DTSTART:20251102T060000
END:STANDARD
END:VTIMEZONE
BEGIN:VEVENT
DTSTART;TZID=America/New_York:20250224T090000
DTEND;TZID=America/New_York:20250224T120000
DTSTAMP:20260423T174410
CREATED:20250129T160909Z
LAST-MODIFIED:20250129T161029Z
UID:10001939-1740387600-1740398400@ncstatecollege.edu
SUMMARY:ACCUPLACER Placement Testing
DESCRIPTION:The Testing Center will offer ACCUPLACER in Fallerius\, Room 124 (upper level). \nFor information about testing at your high school or to schedule an on-campus ACCUPLACER for CCP\, please call 419-755-4566.
URL:https://ncstatecollege.edu/event/accuplacer-placement-testing/
CATEGORIES:ACCUPLACER Placement Exam
END:VEVENT
BEGIN:VEVENT
DTSTART;TZID=America/New_York:20250227T120000
DTEND;TZID=America/New_York:20250227T130000
DTSTAMP:20260423T174410
CREATED:20250122T132128Z
LAST-MODIFIED:20250122T132128Z
UID:10001905-1740657600-1740661200@ncstatecollege.edu
SUMMARY:Respiratory Care Information Session
DESCRIPTION:Sign-up is required. Please click the following link: https://ncstatecollege.edu/associate-degrees/health-info-sesssions/ \nDates are subject to change without notice.
URL:https://ncstatecollege.edu/event/respiratory-care-information-session-51/
END:VEVENT
END:VCALENDAR