BEGIN:VCALENDAR
VERSION:2.0
PRODID:-//North Central State College - ECPv6.5.1.5//NONSGML v1.0//EN
CALSCALE:GREGORIAN
METHOD:PUBLISH
X-ORIGINAL-URL:https://ncstatecollege.edu
X-WR-CALDESC:Events for North Central State College
REFRESH-INTERVAL;VALUE=DURATION:PT1H
X-Robots-Tag:noindex
X-PUBLISHED-TTL:PT1H
BEGIN:VTIMEZONE
TZID:America/New_York
BEGIN:DAYLIGHT
TZOFFSETFROM:-0500
TZOFFSETTO:-0400
TZNAME:EDT
DTSTART:20180311T070000
END:DAYLIGHT
BEGIN:STANDARD
TZOFFSETFROM:-0400
TZOFFSETTO:-0500
TZNAME:EST
DTSTART:20181104T060000
END:STANDARD
BEGIN:DAYLIGHT
TZOFFSETFROM:-0500
TZOFFSETTO:-0400
TZNAME:EDT
DTSTART:20190310T070000
END:DAYLIGHT
BEGIN:STANDARD
TZOFFSETFROM:-0400
TZOFFSETTO:-0500
TZNAME:EST
DTSTART:20191103T060000
END:STANDARD
END:VTIMEZONE
BEGIN:VEVENT
DTSTART;VALUE=DATE:20181030
DTEND;VALUE=DATE:20181031
DTSTAMP:20260421T084255
CREATED:20181127T211511Z
LAST-MODIFIED:20181127T211511Z
UID:10000033-1540857600-1540943999@ncstatecollege.edu
SUMMARY:Fourth payment of Tuition Loan Plan due for Fall Semester 2018
DESCRIPTION:
URL:https://ncstatecollege.edu/event/fourth-payment-of-tuition-loan-plan-due-for-fall-semester-2018/
CATEGORIES:Academic Calendar
END:VEVENT
BEGIN:VEVENT
DTSTART;VALUE=DATE:20181031
DTEND;VALUE=DATE:20181101
DTSTAMP:20260421T084255
CREATED:20181127T211639Z
LAST-MODIFIED:20181127T211639Z
UID:10000034-1540944000-1541030399@ncstatecollege.edu
SUMMARY:Priority Registration for Spring Semester 2019
DESCRIPTION:For all majors except pre-health and undeclared.
URL:https://ncstatecollege.edu/event/priority-registration-for-spring-semester-2019/
CATEGORIES:Academic Calendar
END:VEVENT
BEGIN:VEVENT
DTSTART;VALUE=DATE:20181101
DTEND;VALUE=DATE:20181102
DTSTAMP:20260421T084255
CREATED:20181127T211750Z
LAST-MODIFIED:20181127T211750Z
UID:10000035-1541030400-1541116799@ncstatecollege.edu
SUMMARY:College Credit Plus (CCP) application deadline for Spring Semester 2019
DESCRIPTION:
URL:https://ncstatecollege.edu/event/college-credit-plus-ccp-application-deadline-for-spring-semester-2019/
CATEGORIES:Academic Calendar
END:VEVENT
BEGIN:VEVENT
DTSTART;TZID=America/New_York:20181102T080000
DTEND;TZID=America/New_York:20181102T170000
DTSTAMP:20260421T084255
CREATED:20181127T211845Z
LAST-MODIFIED:20181127T211845Z
UID:10000036-1541145600-1541178000@ncstatecollege.edu
SUMMARY:Priority Registration for Spring Semester 2019
DESCRIPTION:For pre-health and undeclared.
URL:https://ncstatecollege.edu/event/priority-registration-for-spring-semester-2019-2/
CATEGORIES:Academic Calendar
END:VEVENT
BEGIN:VEVENT
DTSTART;TZID=America/New_York:20181105T080000
DTEND;TZID=America/New_York:20181105T170000
DTSTAMP:20260421T084255
CREATED:20181127T211950Z
LAST-MODIFIED:20181127T211950Z
UID:10000037-1541404800-1541437200@ncstatecollege.edu
SUMMARY:Last day to withdraw with a grade of "W" for Fall Semester 2018
DESCRIPTION:
URL:https://ncstatecollege.edu/event/last-day-to-withdraw-with-a-grade-of-w-for-fall-semester-2018/
CATEGORIES:Academic Calendar
END:VEVENT
BEGIN:VEVENT
DTSTART;VALUE=DATE:20181106
DTEND;VALUE=DATE:20181107
DTSTAMP:20260421T084255
CREATED:20181127T212032Z
LAST-MODIFIED:20181127T212032Z
UID:10000038-1541462400-1541548799@ncstatecollege.edu
SUMMARY:Open Registration begins for for Spring Semester 2019
DESCRIPTION:
URL:https://ncstatecollege.edu/event/open-registration-begins-for-for-spring-semester-2019/
CATEGORIES:Academic Calendar
END:VEVENT
BEGIN:VEVENT
DTSTART;VALUE=DATE:20181109
DTEND;VALUE=DATE:20181110
DTSTAMP:20260421T084255
CREATED:20181127T212159Z
LAST-MODIFIED:20181127T212159Z
UID:10000039-1541721600-1541807999@ncstatecollege.edu
SUMMARY:Recommended deadline to submit a FAFSA for Spring Semester 2019
DESCRIPTION:
URL:https://ncstatecollege.edu/event/recommended-deadline-to-submit-a-fafsa-for-spring-semester-2019/
CATEGORIES:Academic Calendar
END:VEVENT
BEGIN:VEVENT
DTSTART;VALUE=DATE:20181111
DTEND;VALUE=DATE:20181112
DTSTAMP:20260421T084255
CREATED:20181127T212339Z
LAST-MODIFIED:20181128T135241Z
UID:10000040-1541894400-1541980799@ncstatecollege.edu
SUMMARY:Veteran's Day
DESCRIPTION:College closed.
URL:https://ncstatecollege.edu/event/veterans-day/
CATEGORIES:Academic Calendar,Holidays
END:VEVENT
BEGIN:VEVENT
DTSTART;VALUE=DATE:20181112
DTEND;VALUE=DATE:20181113
DTSTAMP:20260421T084255
CREATED:20181127T212523Z
LAST-MODIFIED:20181128T135221Z
UID:10000041-1541980800-1542067199@ncstatecollege.edu
SUMMARY:Veteran's Day Observed
DESCRIPTION:No classes. Offices closed — STAFF IN-SERVICE DAY.
URL:https://ncstatecollege.edu/event/veterans-day-observed/
CATEGORIES:Academic Calendar,Holidays
END:VEVENT
BEGIN:VEVENT
DTSTART;VALUE=DATE:20181204
DTEND;VALUE=DATE:20181211
DTSTAMP:20260421T084255
CREATED:20181127T213203Z
LAST-MODIFIED:20181127T213203Z
UID:10000043-1543881600-1544486399@ncstatecollege.edu
SUMMARY:Final Examinations for Fall Semester
DESCRIPTION:
URL:https://ncstatecollege.edu/event/final-examinations-for-fall-semester/
CATEGORIES:Academic Calendar
END:VEVENT
BEGIN:VEVENT
DTSTART;VALUE=DATE:20181210
DTEND;VALUE=DATE:20181211
DTSTAMP:20260421T084255
CREATED:20181127T213323Z
LAST-MODIFIED:20181127T213323Z
UID:10000044-1544400000-1544486399@ncstatecollege.edu
SUMMARY:Last Day of Fall Semester 2018
DESCRIPTION:
URL:https://ncstatecollege.edu/event/last-day-of-fall-semester-2018/
CATEGORIES:Academic Calendar
END:VEVENT
BEGIN:VEVENT
DTSTART;VALUE=DATE:20181211
DTEND;VALUE=DATE:20181212
DTSTAMP:20260421T084255
CREATED:20181127T213411Z
LAST-MODIFIED:20181127T213411Z
UID:10000045-1544486400-1544572799@ncstatecollege.edu
SUMMARY:Final fee payment for Spring Semester
DESCRIPTION:
URL:https://ncstatecollege.edu/event/final-fee-payment-for-spring-semester/
CATEGORIES:Academic Calendar
END:VEVENT
BEGIN:VEVENT
DTSTART;VALUE=DATE:20181212
DTEND;VALUE=DATE:20181213
DTSTAMP:20260421T084255
CREATED:20181127T213624Z
LAST-MODIFIED:20181127T213624Z
UID:10000046-1544572800-1544659199@ncstatecollege.edu
SUMMARY:Deregistration for non-payment starts for Spring Semester
DESCRIPTION:
URL:https://ncstatecollege.edu/event/deregistration-for-non-payment-starts-for-spring-semester/
CATEGORIES:Academic Calendar
END:VEVENT
BEGIN:VEVENT
DTSTART;VALUE=DATE:20181214
DTEND;VALUE=DATE:20181215
DTSTAMP:20260421T084255
CREATED:20181127T214215Z
LAST-MODIFIED:20181127T214215Z
UID:10000047-1544745600-1544831999@ncstatecollege.edu
SUMMARY:Last day to request Transfer of Credit/Credit-by-Exam for Spring Semester
DESCRIPTION:
URL:https://ncstatecollege.edu/event/last-day-to-request-transfer-of-credit-credit-by-exam-for-spring-semester/
CATEGORIES:Academic Calendar
END:VEVENT
BEGIN:VEVENT
DTSTART;VALUE=DATE:20181219
DTEND;VALUE=DATE:20181220
DTSTAMP:20260421T084255
CREATED:20181127T215529Z
LAST-MODIFIED:20181127T215529Z
UID:10000048-1545177600-1545263999@ncstatecollege.edu
SUMMARY:Grades available for viewing on MyNC for Fall Semester for most courses
DESCRIPTION:
URL:https://ncstatecollege.edu/event/grades-available-for-viewing-on-mync-for-fall-semester-for-most-courses/
CATEGORIES:Academic Calendar
END:VEVENT
BEGIN:VEVENT
DTSTART;VALUE=DATE:20190113
DTEND;VALUE=DATE:20190114
DTSTAMP:20260421T084255
CREATED:20181127T220825Z
LAST-MODIFIED:20181127T220825Z
UID:10000052-1547337600-1547423999@ncstatecollege.edu
SUMMARY:Last day to ADD a class for Spring Semester
DESCRIPTION:
URL:https://ncstatecollege.edu/event/last-day-to-add-a-class-for-spring-semester/
CATEGORIES:Academic Calendar
END:VEVENT
BEGIN:VEVENT
DTSTART;VALUE=DATE:20190114
DTEND;VALUE=DATE:20190115
DTSTAMP:20260421T084255
CREATED:20181127T220941Z
LAST-MODIFIED:20181127T220941Z
UID:10000053-1547424000-1547510399@ncstatecollege.edu
SUMMARY:Spring Semester 2019 classes begin
DESCRIPTION:
URL:https://ncstatecollege.edu/event/spring-semester-2019-classes-begin/
CATEGORIES:Academic Calendar
END:VEVENT
BEGIN:VEVENT
DTSTART;VALUE=DATE:20190121
DTEND;VALUE=DATE:20190122
DTSTAMP:20260421T084255
CREATED:20181127T221110Z
LAST-MODIFIED:20190314T123950Z
UID:10000054-1548028800-1548115199@ncstatecollege.edu
SUMMARY:Martin Luther King Day
DESCRIPTION:Campus Closed in Observation of Martin Luther King\, Jr. Day.
URL:https://ncstatecollege.edu/event/martin-luther-king-day/2019-01-21/
CATEGORIES:Academic Calendar,Holidays
END:VEVENT
BEGIN:VEVENT
DTSTART;VALUE=DATE:20190218
DTEND;VALUE=DATE:20190219
DTSTAMP:20260421T084255
CREATED:20181128T200513Z
LAST-MODIFIED:20190927T181228Z
UID:10000106-1550448000-1550534399@ncstatecollege.edu
SUMMARY:President's Day
DESCRIPTION:Campus OPEN\, classes in session. (Holiday observed on November 20 as part of Thanksgiving Holiday)
URL:https://ncstatecollege.edu/event/presidents-day/2019-02-18/
CATEGORIES:Academic Calendar,Holidays
END:VEVENT
BEGIN:VEVENT
DTSTART;TZID=America/New_York:20190313T080000
DTEND;TZID=America/New_York:20190313T170000
DTSTAMP:20260421T084255
CREATED:20190313T212235Z
LAST-MODIFIED:20190313T212612Z
UID:10000231-1552464000-1552496400@ncstatecollege.edu
SUMMARY:Summer & Fall Course Sections Now Available for Planning
DESCRIPTION:The sections offered in Summer and Fall semesters are now available in the Academic Planning & Registration tool.  Students may now search and plan their desired sections to be ready for registration.
URL:https://ncstatecollege.edu/event/summer-fall-course-sections-now-available-for-planning/
CATEGORIES:Academic Calendar
END:VEVENT
BEGIN:VEVENT
DTSTART;TZID=America/New_York:20190319T110000
DTEND;TZID=America/New_York:20190319T140000
DTSTAMP:20260421T084255
CREATED:20190207T163218Z
LAST-MODIFIED:20190207T163218Z
UID:10000162-1552993200-1553004000@ncstatecollege.edu
SUMMARY:Career Services Resume Workshop
DESCRIPTION:
URL:https://ncstatecollege.edu/event/career-services-resume-workshop/
LOCATION:124 Fallerius Hall
CATEGORIES:Academic Calendar,Campus Activities
END:VEVENT
BEGIN:VEVENT
DTSTART;TZID=America/New_York:20190321T100000
DTEND;TZID=America/New_York:20190321T140000
DTSTAMP:20260421T084255
CREATED:20190207T163624Z
LAST-MODIFIED:20190218T152420Z
UID:10000166-1553162400-1553176800@ncstatecollege.edu
SUMMARY:Career Services Career Closet
DESCRIPTION:FREE Professional Career Clothing! Stop by and select from a large inventory of gently used professional clothing from your job or internship/job search. For more information\, contact Paula Waldruff\, Career Pathway Coordinator\, NC State College at pwaldruff@ncstatecollege.edu or Pam Schopieray\, Career Development\, Ohio State Mansfield\, at Schopieray.4@osu.edu
URL:https://ncstatecollege.edu/event/career-services-career-closet/
LOCATION:BLIC/Eisenhower
CATEGORIES:Academic Calendar,Campus Activities
END:VEVENT
BEGIN:VEVENT
DTSTART;TZID=America/New_York:20190326T110000
DTEND;TZID=America/New_York:20190326T140000
DTSTAMP:20260421T084255
CREATED:20190207T163315Z
LAST-MODIFIED:20190207T163315Z
UID:10000163-1553598000-1553608800@ncstatecollege.edu
SUMMARY:Career Services Resume Workshop
DESCRIPTION:
URL:https://ncstatecollege.edu/event/career-services-resume-workshop-2/
LOCATION:BLIC
CATEGORIES:Academic Calendar,Campus Activities
END:VEVENT
BEGIN:VEVENT
DTSTART;VALUE=DATE:20190327
DTEND;VALUE=DATE:20190328
DTSTAMP:20260421T084255
CREATED:20190313T211842Z
LAST-MODIFIED:20190320T153649Z
UID:10000229-1553644800-1553731199@ncstatecollege.edu
SUMMARY:Priority Registration - All Majors Except Pre-Health and Undeclared
DESCRIPTION:March 27 is the first day that currently enrolled students in any major except Pre-Health or Undeclared may register for classes for Summer 2019 and Fall 2019. Registration begins at 7:00AM and continues until the start of each semester.
URL:https://ncstatecollege.edu/event/priority-registration-all-majors-except-pre-health-and-undeclared/
CATEGORIES:Academic Calendar
END:VEVENT
BEGIN:VEVENT
DTSTART;TZID=America/New_York:20190327T100000
DTEND;TZID=America/New_York:20190327T140000
DTSTAMP:20260421T084255
CREATED:20190207T163418Z
LAST-MODIFIED:20190207T163418Z
UID:10000164-1553680800-1553695200@ncstatecollege.edu
SUMMARY:Career Services Resume Workshop
DESCRIPTION:
URL:https://ncstatecollege.edu/event/career-services-resume-workshop-3/
LOCATION:Kehoe\, Room 217
CATEGORIES:Academic Calendar,Campus Activities
END:VEVENT
BEGIN:VEVENT
DTSTART;TZID=America/New_York:20190327T100000
DTEND;TZID=America/New_York:20190327T140000
DTSTAMP:20260421T084255
CREATED:20190207T163701Z
LAST-MODIFIED:20190218T152300Z
UID:10000167-1553680800-1553695200@ncstatecollege.edu
SUMMARY:Career Services Career Closet
DESCRIPTION:FREE Professional Career Clothing! Stop by and select from a large inventory of gently used professional clothing from your job or internship/job search. For more information\, contact Paula Waldruff\, Career Pathway Coordinator\, NC State College at pwaldruff@ncstatecollege.edu or Pam Schopieray\, Career Development\, Ohio State Mansfield\, at Schopieray.4@osu.edu.
URL:https://ncstatecollege.edu/event/career-services-career-closet-2/
LOCATION:Kehoe Center\, 175 Mansfield Ave.\, Shelby\, OH\, United States
CATEGORIES:Academic Calendar,Campus Activities
END:VEVENT
BEGIN:VEVENT
DTSTART;VALUE=DATE:20190329
DTEND;VALUE=DATE:20190330
DTSTAMP:20260421T084255
CREATED:20190313T212002Z
LAST-MODIFIED:20190320T153710Z
UID:10000230-1553817600-1553903999@ncstatecollege.edu
SUMMARY:Priority Registration - Pre-Health & Undeclared
DESCRIPTION:March 29 is the first day that currently enrolled Pre-Health or Undeclared students may register for classes for Summer 2019 and Fall 2019. Registration begins at 7:00AM and continues until the start of each semester.
URL:https://ncstatecollege.edu/event/priority-registration-pre-health-undeclared/
CATEGORIES:Academic Calendar
END:VEVENT
BEGIN:VEVENT
DTSTART;VALUE=DATE:20190401
DTEND;VALUE=DATE:20190402
DTSTAMP:20260421T084255
CREATED:20190920T192535Z
LAST-MODIFIED:20190920T192535Z
UID:10000260-1554076800-1554163199@ncstatecollege.edu
SUMMARY:College Credit Plus (CCP) application deadline for Summer Semester 2019
DESCRIPTION:
URL:https://ncstatecollege.edu/event/college-credit-plus-ccp-application-deadline-for-summer-semester-2019/
CATEGORIES:Academic Calendar
END:VEVENT
BEGIN:VEVENT
DTSTART;TZID=America/New_York:20190401T110000
DTEND;TZID=America/New_York:20190401T160000
DTSTAMP:20260421T084255
CREATED:20190207T163501Z
LAST-MODIFIED:20190207T163501Z
UID:10000165-1554116400-1554134400@ncstatecollege.edu
SUMMARY:Career Services Resume Workshop
DESCRIPTION:
URL:https://ncstatecollege.edu/event/career-services-resume-workshop-4/
LOCATION:BLIC
CATEGORIES:Academic Calendar,Campus Activities
END:VEVENT
BEGIN:VEVENT
DTSTART;TZID=America/New_York:20190402T153000
DTEND;TZID=America/New_York:20190402T173000
DTSTAMP:20260421T084255
CREATED:20190207T163035Z
LAST-MODIFIED:20190218T153058Z
UID:10000161-1554219000-1554226200@ncstatecollege.edu
SUMMARY:Career Services Job Fair
DESCRIPTION:Do you need a summer job or internship?  Are you graduating?  Employers want to meet you!  Dress for success!  Bring copies of your resume!  To register\, go to: tinyurl.com/spring2019jobfair.  For  list of participating employers and more information\, go to: https://tinyurl.com/2019SpringFairEmployers.  If you have questions\, contact Paula Waldruff\, Career Pathway Coordinator\, NC State College\,  at pwaldruff@ncstatecollege.edu or Pam Schopieray\, Career Development\, Ohio State Mansfield\, at shopieray.4@osu.edu.
URL:https://ncstatecollege.edu/event/career-services-job-fair/
LOCATION:Kee Hall\, Room 128
CATEGORIES:Academic Calendar,Campus Activities
END:VEVENT
END:VCALENDAR