BEGIN:VCALENDAR
VERSION:2.0
PRODID:-//North Central State College - ECPv6.5.1.5//NONSGML v1.0//EN
CALSCALE:GREGORIAN
METHOD:PUBLISH
X-ORIGINAL-URL:https://ncstatecollege.edu
X-WR-CALDESC:Events for North Central State College
REFRESH-INTERVAL;VALUE=DURATION:PT1H
X-Robots-Tag:noindex
X-PUBLISHED-TTL:PT1H
BEGIN:VTIMEZONE
TZID:America/New_York
BEGIN:DAYLIGHT
TZOFFSETFROM:-0500
TZOFFSETTO:-0400
TZNAME:EDT
DTSTART:20260308T070000
END:DAYLIGHT
BEGIN:STANDARD
TZOFFSETFROM:-0400
TZOFFSETTO:-0500
TZNAME:EST
DTSTART:20261101T060000
END:STANDARD
END:VTIMEZONE
BEGIN:VEVENT
DTSTART;TZID=America/New_York:20260225T090000
DTEND;TZID=America/New_York:20260225T130000
DTSTAMP:20260422T225354
CREATED:20260223T205407Z
LAST-MODIFIED:20260223T205407Z
UID:10002151-1772010000-1772024400@ncstatecollege.edu
SUMMARY:P.S. I Love You Day
DESCRIPTION:Join us at our table for P.S. I Love You Day to raise awareness for suicide prevention and mental health\, spreading love\, hope\, and support to anyone who may be struggling. \nWear purple\, grab a cookie\, be the light!
URL:https://ncstatecollege.edu/event/p-s-i-love-you-day/
LOCATION:Health Sciences Center\, Lower Level
CATEGORIES:Campus Activities,Mental Health & Wellness
END:VEVENT
END:VCALENDAR